BEGIN:VCALENDAR
VERSION:2.0
METHOD:PUBLISH
PRODID:-//Telerik Inc.//Sitefinity CMS 15.4//EN
BEGIN:VTIMEZONE
TZID:Central Standard Time
BEGIN:STANDARD
DTSTART:20251102T020000
RRULE:FREQ=YEARLY;BYDAY=1SU;BYHOUR=2;BYMINUTE=0;BYMONTH=11
TZNAME:Central Standard Time
TZOFFSETFROM:-0500
TZOFFSETTO:-0600
END:STANDARD
BEGIN:DAYLIGHT
DTSTART:20250301T020000
RRULE:FREQ=YEARLY;BYDAY=2SU;BYHOUR=2;BYMINUTE=0;BYMONTH=3
TZNAME:Central Daylight Time
TZOFFSETFROM:-0600
TZOFFSETTO:-0500
END:DAYLIGHT
END:VTIMEZONE
BEGIN:VEVENT
DESCRIPTION:Event Type: Seminar/SymposiumDr. Mina Johnson-Glenberg\, Direct
 or and Research Professor at Arizona State University\, will be presenting
  a talk titled Designing for and Assessing Learning across the EXtended Re
 ality (XR) Continuum.Dr. Johnson-Glenberg specializes increating and asses
 sing educational&nbsp\;content that is embodied. She will&nbsp\;present on
  several principles related to&nbsp\;designing across the XR spectrum\, an
 d&nbsp\;she will discuss several on-going&nbsp\;research projects with a f
 ocus on how&nbsp\;to assess comprehension of generative&nbsp\;content. She
  is currently working on&nbsp\;STEM content for lifelong learners&nbsp\;us
 ing state-of-the-art motion capture&nbsp\;technologies that mesh best&nbsp
 \;pedagogical principles with learners'&nbsp\;gestures and action.&nbsp\;C
 ontact: Robb Lindgrenrobblind@illinois.eduSponsor: Center for Research and
  Innovation in Technology-Enhanced Learning
DTEND:20260430T173000Z
DTSTAMP:20260423T162601Z
DTSTART:20260430T163000Z
LOCATION:IL\,USA\,Champaign\,College of Education Bldg Room 22\, 1310 S. Si
 xth St. Champaign\, IL
SEQUENCE:0
SUMMARY:ITEL Seminar: Dr. Mina Johnson-Glenberg
UID:RFCALITEM639125403616016327
X-ALT-DESC;FMTTYPE=text/html:<p class="eventtype"><span class="event-headin
 g eventtype">Event Type:</span> Seminar/Symposium</p><p>Dr. Mina Johnson-G
 lenberg\, Director and Research Professor at Arizona State University\, wi
 ll be presenting a talk titled <strong>Designing for and Assessing Learnin
 g across the EXtended Reality (XR) Continuum</strong>.</p><p>Dr. Johnson-G
 lenberg specializes in<span style="background-color: rgba(0\, 0\, 0\, 0)">
 creating and assessing educational&nbsp\;</span><span style="background-co
 lor: rgba(0\, 0\, 0\, 0)">content that is embodied. She will&nbsp\;</span>
 <span style="background-color: rgba(0\, 0\, 0\, 0)">present on several pri
 nciples related to&nbsp\;</span><span style="background-color: rgba(0\, 0\
 , 0\, 0)">designing across the XR spectrum\, and&nbsp\;</span><span style=
 "background-color: rgba(0\, 0\, 0\, 0)">she will discuss several on-going&
 nbsp\;</span><span style="background-color: rgba(0\, 0\, 0\, 0)">research 
 projects with a focus on how&nbsp\;</span><span style="background-color: r
 gba(0\, 0\, 0\, 0)">to assess comprehension of generative&nbsp\;</span><sp
 an style="background-color: rgba(0\, 0\, 0\, 0)">content. She is currently
  working on&nbsp\;</span><span style="background-color: rgba(0\, 0\, 0\, 0
 )">STEM content for lifelong learners&nbsp\;</span><span style="background
 -color: rgba(0\, 0\, 0\, 0)">using state-of-the-art motion capture&nbsp\;<
 /span><span style="background-color: rgba(0\, 0\, 0\, 0)">technologies tha
 t mesh best&nbsp\;</span><span style="background-color: rgba(0\, 0\, 0\, 0
 )">pedagogical principles with learners'&nbsp\;</span><span style="backgro
 und-color: rgba(0\, 0\, 0\, 0)">gestures and action.</span></p><p>&nbsp\;<
 /p><p class="contact"><span class="event-heading contact">Contact:</span> 
 Robb Lindgren<br><a href="mailto:robblind@illinois.edu">robblind@illinois.
 edu</a></p><p class="sponsor"><span class="event-heading sponsor">Sponsor:
 </span> Center for Research and Innovation in Technology-Enhanced Learning
 </p>
END:VEVENT
END:VCALENDAR
